BEGIN:VCALENDAR
VERSION:2.0
PRODID:-//EVEILLESSENCE - ECPv6.3.4//NONSGML v1.0//EN
CALSCALE:GREGORIAN
METHOD:PUBLISH
X-WR-CALNAME:EVEILLESSENCE
X-ORIGINAL-URL:https://eveillessence.ch
X-WR-CALDESC:évènements pour EVEILLESSENCE
REFRESH-INTERVAL;VALUE=DURATION:PT1H
X-Robots-Tag:noindex
X-PUBLISHED-TTL:PT1H
BEGIN:VTIMEZONE
TZID:Europe/Zurich
BEGIN:DAYLIGHT
TZOFFSETFROM:+0100
TZOFFSETTO:+0200
TZNAME:CEST
DTSTART:20220327T010000
END:DAYLIGHT
BEGIN:STANDARD
TZOFFSETFROM:+0200
TZOFFSETTO:+0100
TZNAME:CET
DTSTART:20221030T010000
END:STANDARD
END:VTIMEZONE
BEGIN:VEVENT
DTSTART;TZID=Europe/Zurich:20220928T143000
DTEND;TZID=Europe/Zurich:20220928T160000
DTSTAMP:20260425T205433
CREATED:20220830T145400Z
LAST-MODIFIED:20220908T071841Z
UID:32878-1664375400-1664380800@eveillessence.ch
SUMMARY:L’enfant doué et son univers (6 à 11 ans)
DESCRIPTION:On a longtemps pensé que la seule caractéristique des enfants à haut potentiel était une « supériorité » intellectuelle : les « surdoués » étaient des enfants particulièrement performants en tout et leur avenir était tout tracé. On sait maintenant que ce point de vue était très réducteur\, car la réalité de ces enfants « zèbres » est plus complexe\, notamment concernant la gestion des émotions et la relation à l’autre. \nLes outils de l’éducation positive sont idéaux pour aider ces enfants à se construire sereinement : c’est à travers des activités simples et rapides à mettre en place que j’accompagne les enfants dits « à haut potentiel » et leur famille dans le respect de leurs forces comme de leurs fragilités. \nA travers cet atelier je proposerai à votre enfant des activités pour gérer ses émotions et développer l’estime de soi ; des exercices pour stimuler sa créativité : dessin\, peinture … ;  des jeux collectifs pour s’initier à la communication non violente ; du matériel à découper et à conserver à la fin du cahier (la roue des émotions…) \nPour les enfants de 6 à 11 ans. \n\nTARIFS :\n1 atelier / 50 CHF\n4 ateliers / 180 CHF\n8 ateliers / 340 CHF\n12 ateliers / 500 CHF
URL:https://eveillessence.ch/atelier/lenfant-doue-et-son-univers/
LOCATION:Centre Eveillessence\, Place Saint-François 5\, Lausanne\, Vaud\, 1003\, Suisse
ATTACH;FMTTYPE=image/jpeg:https://eveillessence.ch/wp-content/uploads/2022/01/Eveillessence-atelier-Maurine-qualites-et-dons.jpg
ORGANIZER;CN="Maurine Stohr":MAILTO:ateliers.stohr@gmail.com
END:VEVENT
BEGIN:VEVENT
DTSTART;TZID=Europe/Zurich:20220928T163000
DTEND;TZID=Europe/Zurich:20220928T173000
DTSTAMP:20260425T205433
CREATED:20220830T145651Z
LAST-MODIFIED:20220908T071919Z
UID:32882-1664382600-1664386200@eveillessence.ch
SUMMARY:L’enfant doué et son univers (4 à 5 ans)
DESCRIPTION:On a longtemps pensé que la seule caractéristique des enfants à haut potentiel était une « supériorité » intellectuelle : les « surdoués » étaient des enfants particulièrement performants en tout et leur avenir était tout tracé. On sait maintenant que ce point de vue était très réducteur\, car la réalité de ces enfants « zèbres » est plus complexe\, notamment concernant la gestion des émotions et la relation à l’autre. \nLes outils de l’éducation positive sont idéaux pour aider ces enfants à se construire sereinement : c’est à travers des activités simples et rapides à mettre en place que j’accompagne les enfants dits « à haut potentiel » et leur famille dans le respect de leurs forces comme de leurs fragilités. \nA travers cet atelier je proposerai à votre enfant des activités pour gérer ses émotions et développer l’estime de soi ; des exercices pour stimuler sa créativité : dessin\, peinture … ;  des jeux collectifs pour s’initier à la communication non violente ; du matériel à découper et à conserver à la fin du cahier (la roue des émotions…) \nPour les enfants de 4 à 5 ans. \n\nTARIFS :\n1 atelier / 50 CHF\n4 ateliers / 180 CHF\n8 ateliers / 340 CHF\n12 ateliers / 500 CHF
URL:https://eveillessence.ch/atelier/lenfant-doue-et-son-univers-2/
LOCATION:Centre Eveillessence\, Place Saint-François 5\, Lausanne\, Vaud\, 1003\, Suisse
ATTACH;FMTTYPE=image/jpeg:https://eveillessence.ch/wp-content/uploads/2022/01/Eveillessence-atelier-Maurine-qualites-et-dons.jpg
ORGANIZER;CN="Maurine Stohr":MAILTO:ateliers.stohr@gmail.com
END:VEVENT
END:VCALENDAR